BEGIN:VCALENDAR
VERSION:2.0
PRODID:-//Vida UMH - ECPv5.11.0//NONSGML v1.0//EN
CALSCALE:GREGORIAN
METHOD:PUBLISH
X-WR-CALNAME:Vida UMH
X-ORIGINAL-URL:https://vidaumh.umh.es
X-WR-CALDESC:Eventos para Vida UMH
BEGIN:VTIMEZONE
TZID:Europe/Madrid
BEGIN:DAYLIGHT
TZOFFSETFROM:+0100
TZOFFSETTO:+0200
TZNAME:CEST
DTSTART:20210328T010000
END:DAYLIGHT
BEGIN:STANDARD
TZOFFSETFROM:+0200
TZOFFSETTO:+0100
TZNAME:CET
DTSTART:20211031T010000
END:STANDARD
END:VTIMEZONE
BEGIN:VEVENT
DTSTART;TZID=Europe/Madrid:20211202T183000
DTEND;TZID=Europe/Madrid:20211202T200000
DTSTAMP:20260422T143414
CREATED:20211123T115628Z
LAST-MODIFIED:20211123T115628Z
UID:2608-1638469800-1638475200@vidaumh.umh.es
SUMMARY:Pizzas y otras masas italianas
DESCRIPTION:Elabora la masa de pizza tradicional italiana y otras como la focaccia o la farinata. \nActividad gratuita dirigida a ESTUDIANTES UMH. \nLas plazas se asignarán por orden de inscripción.  \nLa no asistencia a la actividad\, sin avisar\, será motivo de penalización. \nInscríbete aquí
URL:https://vidaumh.umh.es/event/pizzas-y-otras-masas-italianas/
LOCATION:Edificio Arenals\, Elche
CATEGORIES:Campus Elche,Escuela de Cocina
END:VEVENT
END:VCALENDAR