BEGIN:VCALENDAR
VERSION:2.0
PRODID:-//Vida UMH - ECPv5.11.0//NONSGML v1.0//EN
CALSCALE:GREGORIAN
METHOD:PUBLISH
X-WR-CALNAME:Vida UMH
X-ORIGINAL-URL:https://vidaumh.umh.es
X-WR-CALDESC:Eventos para Vida UMH
BEGIN:VTIMEZONE
TZID:Europe/Madrid
BEGIN:DAYLIGHT
TZOFFSETFROM:+0100
TZOFFSETTO:+0200
TZNAME:CEST
DTSTART:20220327T010000
END:DAYLIGHT
BEGIN:STANDARD
TZOFFSETFROM:+0200
TZOFFSETTO:+0100
TZNAME:CET
DTSTART:20221030T010000
END:STANDARD
END:VTIMEZONE
BEGIN:VEVENT
DTSTART;TZID=Europe/Madrid:20221026T160000
DTEND;TZID=Europe/Madrid:20221026T200000
DTSTAMP:20260421T164037
CREATED:20220917T100617Z
LAST-MODIFIED:20220917T121527Z
UID:4019-1666800000-1666814400@vidaumh.umh.es
SUMMARY:[:es]Batalla de Gallos Elche[:]
DESCRIPTION:
URL:https://esim.umh.es/batalla-de-gallos/
CATEGORIES:Campus Elche,ESIM - Escuela Superior de la Industria Musical
END:VEVENT
BEGIN:VEVENT
DTSTART;TZID=Europe/Madrid:20221026T173000
DTEND;TZID=Europe/Madrid:20221026T193000
DTSTAMP:20260421T164037
CREATED:20220917T100549Z
LAST-MODIFIED:20220917T100922Z
UID:4187-1666805400-1666812600@vidaumh.umh.es
SUMMARY:[:es]Voz (sesión 3)[:]
DESCRIPTION:
URL:https://esim.umh.es/voz/
CATEGORIES:Campus Elche,ESIM - Escuela Superior de la Industria Musical
ATTACH;FMTTYPE=image/jpeg:https://vidaumh.umh.es/files/2021/11/voz.jpg
END:VEVENT
BEGIN:VEVENT
DTSTART;TZID=Europe/Madrid:20221026T183000
DTEND;TZID=Europe/Madrid:20221026T210000
DTSTAMP:20260421T164037
CREATED:20220917T120818Z
LAST-MODIFIED:20220917T120818Z
UID:4082-1666809000-1666818000@vidaumh.umh.es
SUMMARY:[:es]Cata de cervezas[:]
DESCRIPTION:
URL:https://escueladecocina.umh.es/cata-de-cervezas/
CATEGORIES:Campus Altea,Escuela de Cocina
ATTACH;FMTTYPE=image/jpeg:https://vidaumh.umh.es/files/2022/08/cata-cerveza.jpg
END:VEVENT
END:VCALENDAR