BEGIN:VCALENDAR
VERSION:2.0
PRODID:-//Vida UMH - ECPv5.11.0//NONSGML v1.0//EN
CALSCALE:GREGORIAN
METHOD:PUBLISH
X-WR-CALNAME:Vida UMH
X-ORIGINAL-URL:https://vidaumh.umh.es
X-WR-CALDESC:Eventos para Vida UMH
BEGIN:VTIMEZONE
TZID:Europe/Madrid
BEGIN:DAYLIGHT
TZOFFSETFROM:+0100
TZOFFSETTO:+0200
TZNAME:CEST
DTSTART:20220327T010000
END:DAYLIGHT
BEGIN:STANDARD
TZOFFSETFROM:+0200
TZOFFSETTO:+0100
TZNAME:CET
DTSTART:20221030T010000
END:STANDARD
END:VTIMEZONE
BEGIN:VEVENT
DTSTART;TZID=Europe/Madrid:20221102T170000
DTEND;TZID=Europe/Madrid:20221102T183000
DTSTAMP:20260421T200352
CREATED:20220917T081745Z
LAST-MODIFIED:20220923T070926Z
UID:4172-1667408400-1667413800@vidaumh.umh.es
SUMMARY:[:es]@santigarciacc[:]
DESCRIPTION:
URL:https://vidaumh.umh.es/influencers/#santi
CATEGORIES:Campus Elche
END:VEVENT
BEGIN:VEVENT
DTSTART;TZID=Europe/Madrid:20221102T173000
DTEND;TZID=Europe/Madrid:20221102T193000
DTSTAMP:20260421T200352
CREATED:20220917T100549Z
LAST-MODIFIED:20220917T100914Z
UID:4193-1667410200-1667417400@vidaumh.umh.es
SUMMARY:[:es]Voz (sesión 4)[:]
DESCRIPTION:
URL:https://esim.umh.es/voz/
CATEGORIES:Campus Elche,ESIM - Escuela Superior de la Industria Musical
ATTACH;FMTTYPE=image/jpeg:https://vidaumh.umh.es/files/2021/11/voz.jpg
END:VEVENT
END:VCALENDAR