BEGIN:VCALENDAR
VERSION:2.0
PRODID:-//Vida UMH - ECPv5.11.0//NONSGML v1.0//EN
CALSCALE:GREGORIAN
METHOD:PUBLISH
X-WR-CALNAME:Vida UMH
X-ORIGINAL-URL:https://vidaumh.umh.es
X-WR-CALDESC:Eventos para Vida UMH
BEGIN:VTIMEZONE
TZID:Europe/Madrid
BEGIN:DAYLIGHT
TZOFFSETFROM:+0100
TZOFFSETTO:+0200
TZNAME:CEST
DTSTART:20220327T010000
END:DAYLIGHT
BEGIN:STANDARD
TZOFFSETFROM:+0200
TZOFFSETTO:+0100
TZNAME:CET
DTSTART:20221030T010000
END:STANDARD
END:VTIMEZONE
BEGIN:VEVENT
DTSTART;TZID=Europe/Madrid:20221117T190000
DTEND;TZID=Europe/Madrid:20221117T203000
DTSTAMP:20260422T014226
CREATED:20221019T093926Z
LAST-MODIFIED:20221019T094126Z
UID:4334-1668711600-1668717000@vidaumh.umh.es
SUMMARY:[:es]NENA DACONTE. Conexión Elche[:]
DESCRIPTION:
URL:https://esim.umh.es/conexion-elche-nena-daconte/
CATEGORIES:Campus Elche,ESIM - Escuela Superior de la Industria Musical
END:VEVENT
END:VCALENDAR