BEGIN:VCALENDAR
VERSION:2.0
PRODID:-//Vida UMH - ECPv5.11.0//NONSGML v1.0//EN
CALSCALE:GREGORIAN
METHOD:PUBLISH
X-WR-CALNAME:Vida UMH
X-ORIGINAL-URL:https://vidaumh.umh.es
X-WR-CALDESC:Eventos para Vida UMH
BEGIN:VTIMEZONE
TZID:Europe/Madrid
BEGIN:DAYLIGHT
TZOFFSETFROM:+0100
TZOFFSETTO:+0200
TZNAME:CEST
DTSTART:20250330T010000
END:DAYLIGHT
BEGIN:STANDARD
TZOFFSETFROM:+0200
TZOFFSETTO:+0100
TZNAME:CET
DTSTART:20251026T010000
END:STANDARD
END:VTIMEZONE
BEGIN:VEVENT
DTSTART;TZID=Europe/Madrid:20251030T220000
DTEND;TZID=Europe/Madrid:20251030T235900
DTSTAMP:20260422T005629
CREATED:20250911T112123Z
LAST-MODIFIED:20250911T112454Z
UID:12146-1761861600-1761868740@vidaumh.umh.es
SUMMARY:[:es]Jam Session [Elche][:]
DESCRIPTION:
URL:https://esim.umh.es/actividades/
CATEGORIES:Campus Elche,ESIM - Escuela Superior de la Industria Musical
ATTACH;FMTTYPE=image/jpeg:https://vidaumh.umh.es/files/2024/08/pexels-big-bag-films-8512413-1024x682-1.jpg
END:VEVENT
END:VCALENDAR