BEGIN:VCALENDAR
VERSION:2.0
PRODID:-//Vida UMH - ECPv5.11.0//NONSGML v1.0//EN
CALSCALE:GREGORIAN
METHOD:PUBLISH
X-WR-CALNAME:Vida UMH
X-ORIGINAL-URL:https://vidaumh.umh.es
X-WR-CALDESC:Eventos para Vida UMH
BEGIN:VTIMEZONE
TZID:Europe/Madrid
BEGIN:DAYLIGHT
TZOFFSETFROM:+0100
TZOFFSETTO:+0200
TZNAME:CEST
DTSTART:20250330T010000
END:DAYLIGHT
BEGIN:STANDARD
TZOFFSETFROM:+0200
TZOFFSETTO:+0100
TZNAME:CET
DTSTART:20251026T010000
END:STANDARD
END:VTIMEZONE
BEGIN:VEVENT
DTSTART;TZID=Europe/Madrid:20251106T120000
DTEND;TZID=Europe/Madrid:20251106T140000
DTSTAMP:20260421T162306
CREATED:20250911T111617Z
LAST-MODIFIED:20250916T083001Z
UID:12370-1762430400-1762437600@vidaumh.umh.es
SUMMARY:[:es]El poder de los accesorios: transforma tu look sin cambiar de ropa[:]
DESCRIPTION:
URL:https://vidaumh.umh.es/escuela-de-moda/
CATEGORIES:Campus Elche,Escuela de Moda
ATTACH;FMTTYPE=image/jpeg:https://vidaumh.umh.es/files/2025/07/accesorios-escalado-1-1.jpg
END:VEVENT
BEGIN:VEVENT
DTSTART;TZID=Europe/Madrid:20251106T180000
DTEND;TZID=Europe/Madrid:20251106T193000
DTSTAMP:20260421T162306
CREATED:20250911T111646Z
LAST-MODIFIED:20251002T081332Z
UID:12536-1762452000-1762457400@vidaumh.umh.es
SUMMARY:[:es]Encuentro con el cardiólogo José Abellán[:]
DESCRIPTION:
URL:https://vidaumh.umh.es/grandes-eventos/
CATEGORIES:Campus Sant Joan d'Alacant,Grandes Eventos
ATTACH;FMTTYPE=image/png:https://vidaumh.umh.es/files/2025/09/RRSS-JOSE-ABELLAN.png
END:VEVENT
END:VCALENDAR