BEGIN:VCALENDAR
VERSION:2.0
PRODID:-//Vida UMH - ECPv5.11.0//NONSGML v1.0//EN
CALSCALE:GREGORIAN
METHOD:PUBLISH
X-WR-CALNAME:Vida UMH
X-ORIGINAL-URL:https://vidaumh.umh.es
X-WR-CALDESC:Eventos para Vida UMH
BEGIN:VTIMEZONE
TZID:Europe/Madrid
BEGIN:DAYLIGHT
TZOFFSETFROM:+0100
TZOFFSETTO:+0200
TZNAME:CEST
DTSTART:20260329T010000
END:DAYLIGHT
BEGIN:STANDARD
TZOFFSETFROM:+0200
TZOFFSETTO:+0100
TZNAME:CET
DTSTART:20261025T010000
END:STANDARD
END:VTIMEZONE
BEGIN:VEVENT
DTSTART;TZID=Europe/Madrid:20260219T170000
DTEND;TZID=Europe/Madrid:20260219T190000
DTSTAMP:20260422T005623
CREATED:20260205T131407Z
LAST-MODIFIED:20260205T132822Z
UID:13583-1771520400-1771527600@vidaumh.umh.es
SUMMARY:[:es]Litografía [campus Altea][:]
DESCRIPTION:
URL:https://vidaumh.umh.es/diy/
CATEGORIES:Campus Altea,Club de DIY
ATTACH;FMTTYPE=image/jpeg:https://vidaumh.umh.es/files/2026/02/litografia.jpg
END:VEVENT
BEGIN:VEVENT
DTSTART;TZID=Europe/Madrid:20260219T190000
DTEND;TZID=Europe/Madrid:20260219T210000
DTSTAMP:20260422T005623
CREATED:20260205T131524Z
LAST-MODIFIED:20260205T133557Z
UID:13700-1771527600-1771534800@vidaumh.umh.es
SUMMARY:[:es]Trivielx [Elche][:]
DESCRIPTION:
URL:https://vidaumh.umh.es/grandes-eventos/
CATEGORIES:Campus Elche,Grandes Eventos
ATTACH;FMTTYPE=image/jpeg:https://vidaumh.umh.es/files/2026/02/BANNER-TRIVIELX.jpg
END:VEVENT
END:VCALENDAR